BEGIN:VCALENDAR
VERSION:2.0
PRODID:-//ChamberMaster//Event Calendar 2.0//EN
METHOD:PUBLISH
X-PUBLISHED-TTL:P3D
REFRESH-INTERVAL:P3D
CALSCALE:GREGORIAN
BEGIN:VEVENT
DTSTART:20250412T120000Z
DTEND:20250412T153000Z
X-MICROSOFT-CDO-ALLDAYEVENT:FALSE
SUMMARY:Walk for Life- Pregnancy Care Center of Plant City
DESCRIPTION:We are excited to invite you to our annual WALK FOR LIFE fundraising event on Saturday\, April 12th. This is a fun family-friendly event open to everyone in the community. It's an opportunity for us all to come together\, raise awareness and help fund the life changing services we provide. Our goal is to raise $80\,000 to reach abortion-vulnerable women and men\, offering life-affirming alternatives and practical assistance. As a Christ-centered ministry\, we share the hope and love of Jesus with everyone who comes through our door. Consider being a sponsor for the event and recruiting a team to WALK FOR LIFE.
X-ALT-DESC;FMTTYPE=text/html:We are excited to invite you to our annual WALK FOR LIFE fundraising event on Saturday\, April 12th. This is a fun family-friendly event open to everyone in the community. It&#39\;s an opportunity for us all to come together\, raise awareness and help fund the life changing services we provide. Our goal is to raise $80\,000 to reach abortion-vulnerable women and men\, offering life-affirming alternatives and practical assistance. As a Christ-centered ministry\, we share the hope and love of Jesus with everyone who comes through our door. Consider being a sponsor for the event and recruiting a team to WALK FOR LIFE.
LOCATION:304 N. Collins St. Plant City\, FL 33563
UID:e.2462.16903
SEQUENCE:3
DTSTAMP:20260419T182624Z
URL:https://business.plantcity.org/events/details/walk-for-life-pregnancy-care-center-of-plant-city-16903
END:VEVENT

END:VCALENDAR
