BEGIN:VCALENDAR
VERSION:2.0
PRODID:-//ChamberMaster//Event Calendar 2.0//EN
METHOD:PUBLISH
X-PUBLISHED-TTL:P3D
REFRESH-INTERVAL:P3D
CALSCALE:GREGORIAN
BEGIN:VEVENT
DTSTART:20160224T163000Z
DTEND:20160224T173000Z
X-MICROSOFT-CDO-ALLDAYEVENT:FALSE
SUMMARY:Visitor Task Force Meeting
DESCRIPTION:
X-ALT-DESC;FMTTYPE=text/html:
LOCATION:Plant City Chamber of Commerce 106 N. Evers St. Plant City
UID:e.2462.1791
SEQUENCE:3
DTSTAMP:20260422T115518Z
URL:https://business.plantcity.org/events/details/visitor-task-force-meeting-02-24-2016-1791
END:VEVENT

END:VCALENDAR
