BEGIN:VCALENDAR
VERSION:2.0
PRODID:-//ChamberMaster//Event Calendar 2.0//EN
METHOD:PUBLISH
X-PUBLISHED-TTL:P3D
REFRESH-INTERVAL:P3D
CALSCALE:GREGORIAN
BEGIN:VEVENT
DTSTART:20251111T190000Z
DTEND:20251111T200000Z
X-MICROSOFT-CDO-ALLDAYEVENT:FALSE
SUMMARY:Veteran's Day Salute
DESCRIPTION:Let's join in a celebration and Thank you for the Veterans who have served to protect our FREEDOMS. Tuesday\, at 2PM ROTC Color Guard\, Music and presentation by LT. Col Carola Carpintero\, US Army Reserve. and Wreath Ceremony.
X-ALT-DESC;FMTTYPE=text/html:Let&#39\;s join in a celebration and Thank you for the Veterans who have served to protect our FREEDOMS. Tuesday\, at 2PM ROTC Color Guard\, Music and presentation by LT. Col Carola Carpintero\, US Army Reserve. and Wreath Ceremony.
LOCATION:Veteran Park \, aka Courier Field\, on N Wheeler.
UID:e.2462.17705
SEQUENCE:3
DTSTAMP:20260424T195802Z
URL:https://business.plantcity.org/events/details/veteran-s-day-salute-17705
END:VEVENT

END:VCALENDAR
