BEGIN:VCALENDAR
VERSION:2.0
PRODID:-//ChamberMaster//Event Calendar 2.0//EN
METHOD:PUBLISH
X-PUBLISHED-TTL:P3D
REFRESH-INTERVAL:P3D
CALSCALE:GREGORIAN
BEGIN:VEVENT
DTSTART:20250327T210000Z
DTEND:20250327T220000Z
X-MICROSOFT-CDO-ALLDAYEVENT:FALSE
SUMMARY:Upon a Page Jam
DESCRIPTION:Join us in this Poetry & Short Story Jam mashup! Feel free to read aloud your own original or maybe just read one of your favorites. We'll have poetry books on site if you prefer to read one of ours\, as well as some fill-in-the-blank Haiku sheets in case you get inspired!
X-ALT-DESC;FMTTYPE=text/html:Join us in this Poetry &amp\; Short Story Jam mashup! Feel free to read aloud your own original or maybe just read one of your favorites. We&#39\;ll have poetry books on site if you prefer to read one of ours\, as well as some fill-in-the-blank Haiku sheets in case you get inspired!
LOCATION:Bruton Memorial Library
UID:e.2462.16923
SEQUENCE:3
DTSTAMP:20260419T213237Z
URL:https://business.plantcity.org/events/details/upon-a-page-jam-03-27-2025-16923
END:VEVENT

END:VCALENDAR
