BEGIN:VCALENDAR
VERSION:2.0
PRODID:-//ChamberMaster//Event Calendar 2.0//EN
METHOD:PUBLISH
X-PUBLISHED-TTL:P3D
REFRESH-INTERVAL:P3D
CALSCALE:GREGORIAN
BEGIN:VEVENT
DTSTART:20250201T230000Z
DTEND:20250202T020000Z
X-MICROSOFT-CDO-ALLDAYEVENT:FALSE
SUMMARY:United Food Bank's Saddle Up For a Cause
DESCRIPTION:You are cordially invited to the United Food Bank's 2025 Saddle Up For A Cause on Saturday\, February 1st\, 2025. Put on your favorite cowboy boots and join us for a stompin' good time with music\, catering by Johnson's BBQ\, raffle baskets\, live auction and roping/riding performances throughout the evening. Western Attire Encouraged
X-ALT-DESC;FMTTYPE=text/html:You are cordially invited to the United Food Bank&#39\;s 2025 Saddle Up For A Cause on Saturday\, February 1st\, 2025. Put on your favorite cowboy boots and join us for a stompin&#39\; good time with music\, catering by Johnson&#39\;s BBQ\, raffle baskets\, live auction and roping/riding performances throughout the evening. Western Attire Encouraged
LOCATION:The Big Red Barn 4816 Deshong Drive Plant City\, FL 33565
UID:e.2462.16186
SEQUENCE:3
DTSTAMP:20260419T230103Z
URL:https://business.plantcity.org/events/details/united-food-bank-s-saddle-up-for-a-cause-16186
END:VEVENT

END:VCALENDAR
