BEGIN:VCALENDAR
VERSION:2.0
PRODID:-//ChamberMaster//Event Calendar 2.0//EN
METHOD:PUBLISH
X-PUBLISHED-TTL:P3D
REFRESH-INTERVAL:P3D
CALSCALE:GREGORIAN
BEGIN:VEVENT
DTSTART:20251025T220000Z
DTEND:20251026T020000Z
X-MICROSOFT-CDO-ALLDAYEVENT:FALSE
SUMMARY:Trunk or Treat - Waggin' Tail-gating Furstival
DESCRIPTION:McNeely Farmily Rescue's presents "Waggin' Tail-gating Furstival. \n\nGames\, Face Painting\, Food\, Fun\, Music\, Candy\, Best Decorated Trunk\, Pet Costume Contest.
X-ALT-DESC;FMTTYPE=text/html:McNeely Farmily Rescue&#39\;s presents &quot\;Waggin&#39\; Tail-gating Furstival.&nbsp\;<br />\nGames\, Face Painting\, Food\, Fun\, Music\, Candy\, Best Decorated Trunk\, Pet Costume Contest.
LOCATION:
UID:e.2462.17537
SEQUENCE:3
DTSTAMP:20260424T225325Z
URL:https://business.plantcity.org/events/details/trunk-or-treat-waggin-tail-gating-furstival-17537
END:VEVENT

END:VCALENDAR
