BEGIN:VCALENDAR
VERSION:2.0
PRODID:-//ChamberMaster//Event Calendar 2.0//EN
METHOD:PUBLISH
X-PUBLISHED-TTL:P3D
REFRESH-INTERVAL:P3D
CALSCALE:GREGORIAN
BEGIN:VEVENT
DTSTART:20251018T190000Z
DTEND:20251019T010000Z
X-MICROSOFT-CDO-ALLDAYEVENT:FALSE
SUMMARY:The Wicked Wilds
DESCRIPTION:Step into the shadows of McIntosh Preserve and experience a fall festival like no other! The Wicked Wilds blends the wonder of nature\, the thrill of the spooky season\, and the creativity of local artists into one unforgettable evening. ??? Wander through the Hollow Market and Oddwood Outpost ?? Make creepy crafts and cryptid creations at hands-on art stations ?? Take a twilight hike along our haunted trails ?? Feast on delicious local eats at Grub in the Glade ?? Settle in under the stars for a movie at the Whispering Woods Cinema This is a free\, family-friendly event full of magic\, mystery\, and community fun! ?? Saturday\, October 18\, 2025 ?? 3:00 PM   9:00 PM ?? McIntosh Preserve   Plant City\, FL ??? Free admission | All ages welcome | Costumes encouraged!
X-ALT-DESC;FMTTYPE=text/html:Step into the shadows of McIntosh Preserve and experience a fall festival like no other! The Wicked Wilds blends the wonder of nature\, the thrill of the spooky season\, and the creativity of local artists into one unforgettable evening. ??? Wander through the Hollow Market and Oddwood Outpost ?? Make creepy crafts and cryptid creations at hands-on art stations ?? Take a twilight hike along our haunted trails ?? Feast on delicious local eats at Grub in the Glade ?? Settle in under the stars for a movie at the Whispering Woods Cinema This is a free\, family-friendly event full of magic\, mystery\, and community fun! ?? Saturday\, October 18\, 2025 ?? 3:00 PM &ndash\; 9:00 PM ?? McIntosh Preserve &ndash\; Plant City\, FL ??? Free admission | All ages welcome | Costumes encouraged!
LOCATION:McIntosh Preserve 775 E. Knights Griffin Rd. Plant City\, FL 33565
UID:e.2462.17235
SEQUENCE:3
DTSTAMP:20260424T225208Z
URL:https://business.plantcity.org/events/details/the-wicked-wilds-17235
END:VEVENT

END:VCALENDAR
