BEGIN:VCALENDAR
VERSION:2.0
PRODID:-//ChamberMaster//Event Calendar 2.0//EN
METHOD:PUBLISH
X-PUBLISHED-TTL:P3D
REFRESH-INTERVAL:P3D
CALSCALE:GREGORIAN
BEGIN:VEVENT
DTSTART:20251107T170000Z
DTEND:20251108T030000Z
X-MICROSOFT-CDO-ALLDAYEVENT:FALSE
SUMMARY:The Local FREE & ACCEPTED presents Family in the Park
DESCRIPTION:
X-ALT-DESC;FMTTYPE=text/html:
LOCATION:
UID:e.2462.17709
SEQUENCE:3
DTSTAMP:20260424T200105Z
URL:https://business.plantcity.org/events/details/the-local-free-accepted-presents-family-in-the-park-17709
END:VEVENT

END:VCALENDAR
