BEGIN:VCALENDAR
VERSION:2.0
PRODID:-//ChamberMaster//Event Calendar 2.0//EN
METHOD:PUBLISH
X-PUBLISHED-TTL:P3D
REFRESH-INTERVAL:P3D
CALSCALE:GREGORIAN
BEGIN:VEVENT
DTSTART:20250823T150000Z
DTEND:20250823T200000Z
X-MICROSOFT-CDO-ALLDAYEVENT:FALSE
SUMMARY:The Art of Femininity
DESCRIPTION:A Pop- Up shop featuring boutique wear from Redwood Boutique and permanent jewelry from Jewels by Juli
X-ALT-DESC;FMTTYPE=text/html:A Pop- Up shop featuring boutique wear from Redwood Boutique and permanent jewelry from Jewels by Juli
LOCATION:Red Calliope Gallery on Evers
UID:e.2462.17503
SEQUENCE:3
DTSTAMP:20260425T020402Z
URL:https://business.plantcity.org/events/details/the-art-of-femininity-17503
END:VEVENT

END:VCALENDAR
