BEGIN:VCALENDAR
VERSION:2.0
PRODID:-//ChamberMaster//Event Calendar 2.0//EN
METHOD:PUBLISH
X-PUBLISHED-TTL:P3D
REFRESH-INTERVAL:P3D
CALSCALE:GREGORIAN
BEGIN:VEVENT
DTSTART:20250508T213000Z
DTEND:20250508T223000Z
X-MICROSOFT-CDO-ALLDAYEVENT:FALSE
SUMMARY:Teen Bingo Night
DESCRIPTION:Friends! Get ready for your chance to win a mini bluetooth controller at our Teen Bingo Night! Visit us to play\, chat\, and listen to music while you test your luck on getting BINGO!
X-ALT-DESC;FMTTYPE=text/html:Friends! Get ready for your chance to win a mini bluetooth controller at our Teen Bingo Night! Visit us to play\, chat\, and listen to music while you test your luck on getting BINGO!
LOCATION:Bruton Memorial Library
UID:e.2462.16951
SEQUENCE:3
DTSTAMP:20260419T212535Z
URL:https://business.plantcity.org/events/details/teen-bingo-night-16951
END:VEVENT

END:VCALENDAR
