BEGIN:VCALENDAR
VERSION:2.0
PRODID:-//ChamberMaster//Event Calendar 2.0//EN
METHOD:PUBLISH
X-PUBLISHED-TTL:P3D
REFRESH-INTERVAL:P3D
CALSCALE:GREGORIAN
BEGIN:VEVENT
DTSTART:20250505T210000Z
DTEND:20250505T230000Z
X-MICROSOFT-CDO-ALLDAYEVENT:FALSE
SUMMARY:Teach With Us - Independence Academy
DESCRIPTION:Teach With Us! Open positions for K-8th Grade teachers\n\nMultiple Hillsborough Campuses
X-ALT-DESC;FMTTYPE=text/html:Teach With Us! Open positions for K-8th Grade teachers<br />\nMultiple Hillsborough Campuses<br />\n&nbsp\;
LOCATION:Independence Academy 1290 E. US Highway 92\, Dover
UID:e.2462.16979
SEQUENCE:3
DTSTAMP:20260419T212233Z
URL:https://business.plantcity.org/events/details/teach-with-us-independence-academy-16979
END:VEVENT

END:VCALENDAR
