BEGIN:VCALENDAR
VERSION:2.0
PRODID:-//ChamberMaster//Event Calendar 2.0//EN
METHOD:PUBLISH
X-PUBLISHED-TTL:P3D
REFRESH-INTERVAL:P3D
CALSCALE:GREGORIAN
BEGIN:VEVENT
DTSTART:20250404T160000Z
DTEND:20250404T160000Z
X-MICROSOFT-CDO-ALLDAYEVENT:FALSE
SUMMARY:Tai Chi\, Yoga\, & Meditation
DESCRIPTION:Find your center with this calming session of Tai Chi\, Yoga\, and Meditation\, hosted by Florida Meditation Center.
X-ALT-DESC;FMTTYPE=text/html:Find your center with this calming session of Tai Chi\, Yoga\, and Meditation\, hosted by Florida Meditation Center.
LOCATION:Bruton Memorial Library
UID:e.2462.16932
SEQUENCE:3
DTSTAMP:20260419T170827Z
URL:https://business.plantcity.org/events/details/tai-chi-yoga-meditation-16932
END:VEVENT

END:VCALENDAR
