BEGIN:VCALENDAR
VERSION:2.0
PRODID:-//ChamberMaster//Event Calendar 2.0//EN
METHOD:PUBLISH
X-PUBLISHED-TTL:P3D
REFRESH-INTERVAL:P3D
CALSCALE:GREGORIAN
BEGIN:VEVENT
DTSTART:20160116T210000Z
DTEND:20160117T010000Z
X-MICROSOFT-CDO-ALLDAYEVENT:FALSE
SUMMARY:Strawberry Classic Car Show
DESCRIPTION:Click Here for Vendor Application\n\nStrawberry Classic Car Show
X-ALT-DESC;FMTTYPE=text/html:<a href="http://cloud.chambermaster.com/userfiles/UserFiles/chambers/2462/File/STRAWBERRYCLASSICCARSHOWVENDORAPP.pdf">Click Here for Vendor Application</a><br />\nStrawberry Classic Car Show<br />\n<br />\n&nbsp\;
LOCATION:Union Station Depot 102 N. Palmer Street Plant City\, FL 33563
UID:e.2462.1085
SEQUENCE:3
DTSTAMP:20260420T120157Z
URL:https://business.plantcity.org/events/details/strawberry-classic-car-show-01-16-2016-1085
END:VEVENT

END:VCALENDAR
