BEGIN:VCALENDAR
VERSION:2.0
PRODID:-//ChamberMaster//Event Calendar 2.0//EN
METHOD:PUBLISH
X-PUBLISHED-TTL:P3D
REFRESH-INTERVAL:P3D
CALSCALE:GREGORIAN
BEGIN:VEVENT
DTSTART:20250819T210000Z
DTEND:20250819T230000Z
X-MICROSOFT-CDO-ALLDAYEVENT:FALSE
SUMMARY:Spotlight: Children’s Theatre Fall Open House
DESCRIPTION:You're Invited to Spotlight's Fall Open House!\n\nCome see what makes Spotlight: Children's Theatre shine!\n\nJoin us for an exciting Open House where families can:\n\n\n	Discover our full lineup of classes and register for the new season\n	Enjoy live performances by our talented young stars\n	Tour our newly prepared space now ready for students!\n	Meet the director and ask all your questions\n	And of course\, enjoy some snacks while you explore!\n\n\nWhether you're brand new or a returning family\, this is the perfect chance to experience the magic of Spotlight.\n\nDate: Thursday\, August 14th\n\nTime: 6-8pm\n\nLocation: 115 W J Arden Mays blvd. in downtown Plant City right next door to the State Theater and across from McCall Park\n\nLet's kick off a new season full of creativity\, confidence\, and community. We can't wait to meet you!
X-ALT-DESC;FMTTYPE=text/html:<p>You&#39\;re Invited to Spotlight&#39\;s Fall Open House!</p>\n\n<p>Come see what makes Spotlight: Children&#39\;s Theatre shine!</p>\n\n<p>Join us for an exciting Open House where families can:</p>\n\n<ul style="list-style-type:circle">\n	<li>Discover our full lineup of classes and register for the new season</li>\n	<li>Enjoy live performances by our talented young stars</li>\n	<li>Tour our newly prepared space&mdash\;now ready for students!</li>\n	<li>Meet the director and ask all your questions</li>\n	<li>And of course\, enjoy some snacks while you explore!</li>\n</ul>\n\n<p>Whether you&#39\;re brand new or a returning family\, this is the perfect chance to experience the magic of Spotlight.</p>\n\n<p>Date: Thursday\, August 14th</p>\n\n<p>Time: 6-8pm</p>\n\n<p>Location: 115 W J Arden Mays blvd. in downtown Plant City right next door to the State Theater and across from McCall Park</p>\n\n<p>Let&#39\;s kick off a new season full of creativity\, confidence\, and community. We can&#39\;t wait to meet you!</p>\n
LOCATION:115 W J Arden Mays blvd Plant City\, FL 33563
UID:e.2462.17233
SEQUENCE:3
DTSTAMP:20260425T002546Z
URL:https://business.plantcity.org/events/details/spotlight-children-s-theatre-fall-open-house-17233
END:VEVENT

END:VCALENDAR
