BEGIN:VCALENDAR
VERSION:2.0
PRODID:-//ChamberMaster//Event Calendar 2.0//EN
METHOD:PUBLISH
X-PUBLISHED-TTL:P3D
REFRESH-INTERVAL:P3D
CALSCALE:GREGORIAN
BEGIN:VEVENT
DTSTART:20250122T223000Z
DTEND:20250122T233000Z
X-MICROSOFT-CDO-ALLDAYEVENT:FALSE
SUMMARY:Spanish Book Club: La Casa De Los Ángeles Rotos
DESCRIPTION:Discuss (The House of Broken Angels) La casa de los  ngeles rotos\; A novel about Mexican-American life\, 70-year-old patriarch Big Angel de la Cruz is dying\, and he wants to have one last birthday blowout. Unfortunately\, his 100-year-old mother\, America\, dies the week of his party\, so the funeral and birthday are celebrated one day apart. And so\, the entire de la Cruz clan descends on San Diego for the memorable events. Check out at the library!
X-ALT-DESC;FMTTYPE=text/html:Discuss (The House of Broken Angels) La casa de los &aacute\;ngeles rotos\; A novel about Mexican-American life\, 70-year-old patriarch Big Angel de la Cruz is dying\, and he wants to have one last birthday blowout. Unfortunately\, his 100-year-old mother\, America\, dies the week of his party\, so the funeral and birthday are celebrated one day apart. And so\, the entire de la Cruz clan descends on San Diego for the memorable events. Check out at the library!
LOCATION:Bruton Memorial Library
UID:e.2462.16823
SEQUENCE:3
DTSTAMP:20260420T001720Z
URL:https://business.plantcity.org/events/details/spanish-book-club-la-casa-de-los-&#225;ngeles-rotos-16823
END:VEVENT

END:VCALENDAR
