BEGIN:VCALENDAR
VERSION:2.0
PRODID:-//ChamberMaster//Event Calendar 2.0//EN
METHOD:PUBLISH
X-PUBLISHED-TTL:P3D
REFRESH-INTERVAL:P3D
CALSCALE:GREGORIAN
BEGIN:VEVENT
DTSTART:20250524T213000Z
DTEND:20250524T223000Z
X-MICROSOFT-CDO-ALLDAYEVENT:FALSE
SUMMARY:Soundbowl Classes at Your CBD Store Plant City
DESCRIPTION:Welcome to Sound Bowl Classes at Your CBD Store Plant City!\n\nJoin us for a relaxing and rejuvenating session led by Lupita of Ignite the Fire at Your CBD Store | SUNMED   Plant City\, FL. Immerse yourself in the soothing sounds of singing bowls as the vibrations help melt away stress and promote deep relaxation.\n\nThis in-person class is perfect for anyone looking to unwind\, reset\, and find inner peace in a calm\, welcoming environment.\n\nThis first session is FREE\n\nEvent Special: Buy 2\, Get 1 Free on select products\n\nReserve your spot today   we can't wait to see you!
X-ALT-DESC;FMTTYPE=text/html:<p><strong>Welcome to Sound Bowl Classes at Your CBD Store Plant City!</strong></p>\n\n<p>Join us for a relaxing and rejuvenating session led by&nbsp\;<strong>Lupita of Ignite the Fire</strong>&nbsp\;at Your CBD Store | SUNMED &ndash\; Plant City\, FL. Immerse yourself in the soothing sounds of singing bowls as the vibrations help melt away stress and promote deep relaxation.</p>\n\n<p>This in-person class is perfect for anyone looking to unwind\, reset\, and find inner peace in a calm\, welcoming environment.</p>\n\n<p><strong>This first session is FREE</strong><br />\n<strong>Event Special: Buy 2\, Get 1 Free on select products</strong></p>\n\n<p>Reserve your spot today &ndash\; we can&rsquo\;t wait to see you!</p>\n
LOCATION:Your CBD Store | SUNMED - Plant City\, FL 2909 James L Redman Parkway #7 Plant City\, FL 33566
UID:e.2462.16985
SEQUENCE:3
DTSTAMP:20260419T212624Z
URL:https://business.plantcity.org/events/details/soundbowl-classes-at-your-cbd-store-plant-city-16985
END:VEVENT

END:VCALENDAR
