BEGIN:VCALENDAR
VERSION:2.0
PRODID:-//ChamberMaster//Event Calendar 2.0//EN
METHOD:PUBLISH
X-PUBLISHED-TTL:P3D
REFRESH-INTERVAL:P3D
CALSCALE:GREGORIAN
BEGIN:VEVENT
DTSTART:20250419T223000Z
DTEND:20250420T003000Z
X-MICROSOFT-CDO-ALLDAYEVENT:FALSE
SUMMARY:Songwriters Circled
DESCRIPTION:The songwriters circle is a show for the whole family\, where several local songwriters gather on stage to share their original songs for your entertainment The finest night of music in Plant City. Enjoy this free show\, filled with fantastic stories and talented artists. 6 artists one stage. Songwriters are where music is born.
X-ALT-DESC;FMTTYPE=text/html:The songwriters circle is a show for the whole family\, where several local songwriters gather on stage to share their original songs for your entertainment The finest night of music in Plant City. Enjoy this free show\, filled with fantastic stories and talented artists. 6 artists one stage. Songwriters are where music is born.
LOCATION:Krazy Kup
UID:e.2462.16968
SEQUENCE:3
DTSTAMP:20260419T181413Z
URL:https://business.plantcity.org/events/details/songwriters-circled-16968
END:VEVENT

END:VCALENDAR
