BEGIN:VCALENDAR
VERSION:2.0
PRODID:-//ChamberMaster//Event Calendar 2.0//EN
METHOD:PUBLISH
X-PUBLISHED-TTL:P3D
REFRESH-INTERVAL:P3D
CALSCALE:GREGORIAN
BEGIN:VEVENT
DTSTART:20251018T223000Z
DTEND:20251019T003000Z
X-MICROSOFT-CDO-ALLDAYEVENT:FALSE
SUMMARY:Songwriter’s Circle
DESCRIPTION:The Songwriters Circle is a Writers Round based in Central Florida that showcases Original Artists under a shared spotlight. This incredi. ble show is open to the public and we encourage you to come and experience the music with us!!
X-ALT-DESC;FMTTYPE=text/html:The Songwriters Circle is a Writers Round based in Central Florida that showcases Original Artists under a shared spotlight. This incredi. ble show is open to the public and we encourage you to come and experience the music with us!!
LOCATION:Krazy Kup
UID:e.2462.17562
SEQUENCE:3
DTSTAMP:20260424T225259Z
URL:https://business.plantcity.org/events/details/songwriter-s-circle-10-18-2025-17562
END:VEVENT

END:VCALENDAR
