BEGIN:VCALENDAR
VERSION:2.0
PRODID:-//ChamberMaster//Event Calendar 2.0//EN
METHOD:PUBLISH
X-PUBLISHED-TTL:P3D
REFRESH-INTERVAL:P3D
CALSCALE:GREGORIAN
BEGIN:VEVENT
DTSTART:20250315T223000Z
DTEND:20250316T003000Z
X-MICROSOFT-CDO-ALLDAYEVENT:FALSE
SUMMARY:Songwriter’s Circle
DESCRIPTION:The songwriters circle is a show for the whole family\, where several local songwriters gather on stage to share their original songs for your entertainment
X-ALT-DESC;FMTTYPE=text/html:The songwriters circle is a show for the whole family\, where several local songwriters gather on stage to share their original songs for your entertainment
LOCATION:
UID:e.2462.16915
SEQUENCE:3
DTSTAMP:20260419T213419Z
URL:https://business.plantcity.org/events/details/songwriter-s-circle-03-15-2025-16915
END:VEVENT

END:VCALENDAR
