BEGIN:VCALENDAR
VERSION:2.0
PRODID:-//ChamberMaster//Event Calendar 2.0//EN
METHOD:PUBLISH
X-PUBLISHED-TTL:P3D
REFRESH-INTERVAL:P3D
CALSCALE:GREGORIAN
BEGIN:VEVENT
DTSTART:20250221T223000Z
DTEND:20250222T000000Z
X-MICROSOFT-CDO-ALLDAYEVENT:FALSE
SUMMARY:Sip n Paint - Your CBD Store
DESCRIPTION:Only $10 to RSVP & get $10 off your purchase. \n\nCall (813)652-8191 or register on eventbrite.com to RSVP
X-ALT-DESC;FMTTYPE=text/html:Only $10 to RSVP &amp\; get $10 off your purchase.&nbsp\;<br />\nCall (813)652-8191 or register on eventbrite.com to RSVP
LOCATION:2909 James L Redman Pkwy Plant City\, FL
UID:e.2462.16890
SEQUENCE:3
DTSTAMP:20260419T225509Z
URL:https://business.plantcity.org/events/details/sip-n-paint-your-cbd-store-16890
END:VEVENT

END:VCALENDAR
