BEGIN:VCALENDAR
VERSION:2.0
PRODID:-//ChamberMaster//Event Calendar 2.0//EN
METHOD:PUBLISH
X-PUBLISHED-TTL:P3D
REFRESH-INTERVAL:P3D
CALSCALE:GREGORIAN
BEGIN:VEVENT
DTSTART:20250523T213000Z
DTEND:20250523T230000Z
X-MICROSOFT-CDO-ALLDAYEVENT:FALSE
SUMMARY:Sip N Paint Class May At Your CBD Store Plant City
DESCRIPTION:Sip N Paint Class\n\nWelcome to our Sip & Paint Class! Join us at Your CBD Store | SUNMED   Plant City\, FL for a fun-filled evening of creativity\, relaxation\, and community.\n\nUnleash your inner artist while sipping and exploring wellness with Sunmed! Enjoy complimentary food and drinks as you paint the night away. No experience necessary our talented instructor will guide you step-by-step.\n\nBring a friend (or a few!) and create beautiful masterpieces together. It's the perfect way to unwind\, get inspired\, and enjoy something new.\n\nSpots are limited\, so RSVP today
X-ALT-DESC;FMTTYPE=text/html:<p><strong>Sip N Paint Class</strong></p>\n\n<p>Welcome to our Sip &amp\; Paint Class! Join us at&nbsp\;<strong>Your CBD Store | SUNMED &ndash\; Plant City\, FL</strong>&nbsp\;for a fun-filled evening of creativity\, relaxation\, and community.</p>\n\n<p>Unleash your inner artist while sipping and exploring wellness with Sunmed!&nbsp\;<strong>Enjoy complimentary food and drinks</strong>&nbsp\;as you paint the night away. No experience necessary&mdash\;our talented instructor will guide you step-by-step.</p>\n\n<p>Bring a friend (or a few!) and create beautiful masterpieces together. It&#39\;s the perfect way to unwind\, get inspired\, and enjoy something new.</p>\n\n<p><strong>Spots are limited\, so RSVP today</strong></p>\n
LOCATION:Your CBD Store | SUNMED - Plant City\, FL 2909 James L Redman Parkway #7 Plant City\, FL 33566
UID:e.2462.16986
SEQUENCE:3
DTSTAMP:20260419T212608Z
URL:https://business.plantcity.org/events/details/sip-n-paint-class-may-at-your-cbd-store-plant-city-16986
END:VEVENT

END:VCALENDAR
