BEGIN:VCALENDAR
VERSION:2.0
PRODID:-//ChamberMaster//Event Calendar 2.0//EN
METHOD:PUBLISH
X-PUBLISHED-TTL:P3D
REFRESH-INTERVAL:P3D
CALSCALE:GREGORIAN
BEGIN:VEVENT
DTSTART:20250515T213000Z
DTEND:20250515T223000Z
X-MICROSOFT-CDO-ALLDAYEVENT:FALSE
SUMMARY:Silent Book Club
DESCRIPTION:Join our Silent Book Club! A camaraderie of friends & strangers who read alone\, together! Bring your book of choice and visit without having the pressure to talk! Conversations are allowed but of course\, not required.
X-ALT-DESC;FMTTYPE=text/html:Join our Silent Book Club! A camaraderie of friends &amp\; strangers who read alone\, together! Bring your book of choice and visit without having the pressure to talk! Conversations are allowed but of course\, not required.
LOCATION:Bruton Memorial Library
UID:e.2462.16956
SEQUENCE:3
DTSTAMP:20260419T212338Z
URL:https://business.plantcity.org/events/details/silent-book-club-16956
END:VEVENT

END:VCALENDAR
