BEGIN:VCALENDAR
VERSION:2.0
PRODID:-//ChamberMaster//Event Calendar 2.0//EN
METHOD:PUBLISH
X-PUBLISHED-TTL:P3D
REFRESH-INTERVAL:P3D
CALSCALE:GREGORIAN
BEGIN:VEVENT
DTSTART:20250904T200000Z
DTEND:20250904T230000Z
X-MICROSOFT-CDO-ALLDAYEVENT:FALSE
SUMMARY:Schmoozapalooza 2025
DESCRIPTION:Schmoozapalooza   is a high-energy networking event hosted by the Plant City Chamber for the entire community! The best way to describe this exciting event is to think football tailgate party - meets business expo! \n\n\n\nSchmoozapalooza will feature exhibitor booths\, complimentary food & beer samples from Plant City's favorite restaurants\, swag bags for all attendees\, a live DJ\, giveaways\, interactive games\, and more!\n\n\n\nSchmoozapalooza is FREE to all PCCOC members! Non-members can attend for $10 per person. Pre-sale will close on September 3rd. Stop by the Chamber at 118 W. Reynolds Street to pick up your event tickets before the 3rd. Tickets will also be on sale at the door on the day of Schmoozapalooza\, while supplies last\, for $10.\n\n\n\nLooking to expand your network or just want to know more about the Plant City community? This is the event for you!\n\n\n\nBusinesses have the opportunity to showcase their company by setting up an exhibitor booth. Booth spaces start at just $350 but you must register by Friday\, August 22nd. Manage a restaurant? Contact us for special partnership opportunities.
X-ALT-DESC;FMTTYPE=text/html:&#127944\; Schmoozapalooza &#127944\; is a high-energy networking event hosted by the Plant City Chamber for the entire community! The best way to describe this exciting event is to think football tailgate party - meets business expo!&nbsp\;<br />\n<br />\nSchmoozapalooza will feature exhibitor booths\, complimentary food &amp\; beer samples from Plant City&#39\;s favorite restaurants\, swag bags for all attendees\, a live DJ\, giveaways\, interactive games\, and more!<br />\n<br />\nSchmoozapalooza is FREE to all PCCOC members! Non-members can attend for $10 per person. Pre-sale will close on September 3rd. Stop by the Chamber at 118 W. Reynolds Street to pick up your event tickets before the 3rd. Tickets will also be on sale at the door on the day of Schmoozapalooza\, while supplies last\, for $10.<br />\n<br />\nLooking to expand your network or just want to know more about the Plant City community? This is the event for you!<br />\n<br />\nBusinesses have the opportunity to showcase their company by setting up an exhibitor booth. Booth spaces start at just $350 but you must register by Friday\, August 22nd. Manage a restaurant? Contact us for special partnership opportunities.
LOCATION:HCC Trinkle Center 1206 N. Park Road Plant City\, FL
UID:e.2462.16882
SEQUENCE:3
DTSTAMP:20260425T002828Z
URL:https://business.plantcity.org/events/details/schmoozapalooza-2025-16882
END:VEVENT

END:VCALENDAR
