BEGIN:VCALENDAR
VERSION:2.0
PRODID:-//ChamberMaster//Event Calendar 2.0//EN
METHOD:PUBLISH
X-PUBLISHED-TTL:P3D
REFRESH-INTERVAL:P3D
CALSCALE:GREGORIAN
BEGIN:VEVENT
DTSTART:20260108T150000Z
DTEND:20260108T170000Z
X-MICROSOFT-CDO-ALLDAYEVENT:FALSE
SUMMARY:SBDC Workshop
DESCRIPTION:Topic: Understanding Personal and Business Credit\n\nThis interactive workshop will provide you with a basic understanding of personal and business credit\, credit reporting\, and credit scores. In addition\, you will learn how to improve your credit\, as well as how both personal and business credit is used to obtain financing for your business.
X-ALT-DESC;FMTTYPE=text/html:<div font-size:="" helvetica="" segoe="" style="box-sizing: border-box\; color: rgb(33\, 37\, 41)\; font-family: Lato\, -apple-system\, BlinkMacSystemFont\, "><span style="font-size:16px\;">Topic: Understanding Personal and Business Credit</span><br />\n<span style="color: rgb(33\, 37\, 41)\; font-family: Lato\, -apple-system\, BlinkMacSystemFont\, &quot\;Segoe UI&quot\;\, Roboto\, &quot\;Helvetica Neue&quot\;\, Arial\, sans-serif\; font-size: 16px\; white-space-collapse: preserve\;">This interactive workshop will provide you with a basic understanding of personal and business credit\, credit reporting\, and credit scores. In addition\, you will learn how to improve your credit\, as well as how both personal and business credit is used to obtain financing for your business.</span></div>\n
LOCATION:This event is FREE and Online!
UID:e.2462.17850
SEQUENCE:3
DTSTAMP:20260424T165137Z
URL:https://business.plantcity.org/events/details/sbdc-workshop-17850
END:VEVENT

END:VCALENDAR
