BEGIN:VCALENDAR
VERSION:2.0
PRODID:-//ChamberMaster//Event Calendar 2.0//EN
METHOD:PUBLISH
X-PUBLISHED-TTL:P3D
REFRESH-INTERVAL:P3D
CALSCALE:GREGORIAN
BEGIN:VEVENT
DTSTART:20230330T140000Z
DTEND:20230330T160000Z
X-MICROSOFT-CDO-ALLDAYEVENT:FALSE
SUMMARY:SBDC Workshop
DESCRIPTION:Topic: Access to Capital\n\n\nAre you looking for money for your business? Are you considering a SBA loan? This seminar will help you zero in on the right funding choices for your business and avoid money scams. Learn how to ask for a loan\, get prepared for the bank\, and where to find money.\n\nYou'll explore:\n\n  SBA loans: when\, where and how to apply\n\n  How to plan your financing request to banks\n\n  Which banks are making loans\n\n  Angel investors and venture capitalists\n\n  Six Cs of credit and how credit scores affect your business\n\n  Busting the myths about small business grants\n\n\n \n\nSpeaker(s): Robert Pierce III\n\nCo-Sponsor(s): Plant City Chamber of Commerce
X-ALT-DESC;FMTTYPE=text/html:<div font-size:="" helvetica="" segoe="" style="box-sizing: border-box\; color: rgb(33\, 37\, 41)\; font-family: Lato\, -apple-system\, BlinkMacSystemFont\, ">\n<div style="box-sizing: border-box\; color: rgb(33\, 37\, 41)\; font-family: Lato\, -apple-system\, BlinkMacSystemFont\, &quot\;Segoe UI&quot\;\, Roboto\, &quot\;Helvetica Neue&quot\;\, Arial\, sans-serif\; font-size: 16px\;">Topic: Access to Capital</div>\n\n<div class="cdworkshopHTMLinfo" style="box-sizing: border-box\; padding-top: 1em\; padding-bottom: 1em\; color: rgb(33\, 37\, 41)\; font-family: Lato\, -apple-system\, BlinkMacSystemFont\, &quot\;Segoe UI&quot\;\, Roboto\, &quot\;Helvetica Neue&quot\;\, Arial\, sans-serif\; font-size: 16px\;">\n<p style="box-sizing: border-box\; margin-top: 0px\; margin-bottom: 1rem\;">Are you looking for money for your business? Are you considering a SBA loan? This seminar will help you zero in on the right funding choices for your business and avoid money scams. Learn how to ask for a loan\, get prepared for the bank\, and where to find money.</p>\n\n<p style="box-sizing: border-box\; margin-top: 0px\; margin-bottom: 1rem\;">You&rsquo\;ll explore:</p>\n\n<p style="box-sizing: border-box\; margin-top: 0px\; margin-bottom: 1rem\;">&bull\; SBA loans: when\, where and how to apply</p>\n\n<p style="box-sizing: border-box\; margin-top: 0px\; margin-bottom: 1rem\;">&bull\; How to plan your financing request to banks</p>\n\n<p style="box-sizing: border-box\; margin-top: 0px\; margin-bottom: 1rem\;">&bull\; Which banks are making loans</p>\n\n<p style="box-sizing: border-box\; margin-top: 0px\; margin-bottom: 1rem\;">&bull\; Angel investors and venture capitalists</p>\n\n<p style="box-sizing: border-box\; margin-top: 0px\; margin-bottom: 1rem\;">&bull\; Six Cs of credit and how credit scores affect your business</p>\n\n<p style="box-sizing: border-box\; margin-top: 0px\; margin-bottom: 1rem\;">&bull\; Busting the myths about small business grants</p>\n</div>\n\n<p class="cdworkshoptextinfo" style="box-sizing: border-box\; margin-top: 0px\; margin-bottom: 1rem\; white-space: pre-wrap\; color: rgb(33\, 37\, 41)\; font-family: Lato\, -apple-system\, BlinkMacSystemFont\, &quot\;Segoe UI&quot\;\, Roboto\, &quot\;Helvetica Neue&quot\;\, Arial\, sans-serif\; font-size: 16px\;">&nbsp\;</p>\n\n<p class="cdworkshoptextinfo" style="box-sizing: border-box\; margin-top: 0px\; margin-bottom: 1rem\; white-space: pre-wrap\; color: rgb(33\, 37\, 41)\; font-family: Lato\, -apple-system\, BlinkMacSystemFont\, &quot\;Segoe UI&quot\;\, Roboto\, &quot\;Helvetica Neue&quot\;\, Arial\, sans-serif\; font-size: 16px\;">Speaker(s): Robert Pierce III</p>\n\n<p class="cdworkshoptextinfo" style="box-sizing: border-box\; margin-top: 0px\; margin-bottom: 1rem\; white-space: pre-wrap\; color: rgb(33\, 37\, 41)\; font-family: Lato\, -apple-system\, BlinkMacSystemFont\, &quot\;Segoe UI&quot\;\, Roboto\, &quot\;Helvetica Neue&quot\;\, Arial\, sans-serif\; font-size: 16px\;">Co-Sponsor(s): Plant City Chamber of Commerce</p>\n</div>\n
LOCATION:Fee: No Cost Click Here to Register
UID:e.2462.13950
SEQUENCE:3
DTSTAMP:20260424T143808Z
URL:https://business.plantcity.org/events/details/sbdc-workshop-13950
END:VEVENT

END:VCALENDAR
