BEGIN:VCALENDAR
VERSION:2.0
PRODID:-//ChamberMaster//Event Calendar 2.0//EN
METHOD:PUBLISH
X-PUBLISHED-TTL:P3D
REFRESH-INTERVAL:P3D
CALSCALE:GREGORIAN
BEGIN:VEVENT
DTSTART:20250916T140000Z
DTEND:20250916T143000Z
X-MICROSOFT-CDO-ALLDAYEVENT:FALSE
SUMMARY:Ribbon Cutting: Chicken Salad Chick
DESCRIPTION:Join us for a Ribbon Cutting and Grand Opening for Chicken Salad Chick!
X-ALT-DESC;FMTTYPE=text/html:Join us for a Ribbon Cutting and Grand Opening for Chicken Salad Chick!
LOCATION:
UID:e.2462.17512
SEQUENCE:3
DTSTAMP:20260425T002644Z
URL:https://business.plantcity.org/events/details/ribbon-cutting-chicken-salad-chick-17512
END:VEVENT

END:VCALENDAR
