BEGIN:VCALENDAR
VERSION:2.0
PRODID:-//ChamberMaster//Event Calendar 2.0//EN
METHOD:PUBLISH
X-PUBLISHED-TTL:P3D
REFRESH-INTERVAL:P3D
CALSCALE:GREGORIAN
BEGIN:VEVENT
DTSTART:20221209T210000Z
DTEND:20221209T220000Z
X-MICROSOFT-CDO-ALLDAYEVENT:FALSE
SUMMARY:Ribbon Cutting Ceremony - UR Cabinets
DESCRIPTION:The community is invited to celebrate the Grand Opening for UR Cabinets as we host a Ribbon Cutting Ceremony for their new business located right here in downtown Plant City! \n\n\n\nCome and support fellow members and continue to grow your professional network.  \n\n\n\nThis event is FREE to everyone!
X-ALT-DESC;FMTTYPE=text/html:The community is invited to celebrate the Grand Opening for UR Cabinets as we host a Ribbon Cutting Ceremony for their new business located right here in downtown Plant City!&nbsp\;<br />\n<br />\nCome and support fellow members and continue to grow your professional network.&nbsp\;&nbsp\;<br />\n<br />\nThis event is FREE to everyone!
LOCATION:
UID:e.2462.13744
SEQUENCE:3
DTSTAMP:20260424T160811Z
URL:https://business.plantcity.org/events/details/ribbon-cutting-ceremony-ur-cabinets-13744
END:VEVENT

END:VCALENDAR
