BEGIN:VCALENDAR
VERSION:2.0
PRODID:-//ChamberMaster//Event Calendar 2.0//EN
METHOD:PUBLISH
X-PUBLISHED-TTL:P3D
REFRESH-INTERVAL:P3D
CALSCALE:GREGORIAN
BEGIN:VEVENT
DTSTART:20221215T210000Z
DTEND:20221215T220000Z
X-MICROSOFT-CDO-ALLDAYEVENT:FALSE
SUMMARY:Ribbon Cutting Ceremony - John K9 Dog Training
DESCRIPTION:The community is invited to celebrate the Grand Opening of John K9 Dog Training as we host a Ribbon Cutting Ceremony for their new business located right here in Plant City! \n\n\n\nCome and support fellow members and continue to grow your professional network.  \n\n\n\nThis event is FREE to everyone!
X-ALT-DESC;FMTTYPE=text/html:<span style="background-image:initial\;background-position:initial\;background-size:initial\;background-repeat:initial\;background-attachment:initial\;background-origin:initial\;background-clip:initial\;"><span style="color:#3f3f3f\;"><span style="font-family:josefin sans\;"><span style="font-size:12pt\;">The community is invited to celebrate the Grand Opening of John K9 Dog Training as we host a Ribbon Cutting Ceremony for their new business located right here in Plant City!&nbsp\;</span></span></span></span><br />\n<br />\n<span style="color:#3F3F3F\;"><span style="font-family:josefin sans\;"><span style="font-size:12.0pt\;"><span style="background-image:initial\;background-position:initial\;background-size:initial\;background-repeat:initial\;background-attachment:initial\;background-origin:initial\;background-clip:initial\;">Come and support fellow members and continue to grow your professional network.&nbsp\;&nbsp\;</span><br />\n<br />\n<span style="background-image:initial\;background-position:initial\;background-size:initial\;background-repeat:initial\;background-attachment:initial\;background-origin:initial\;background-clip:initial\;">This event is FREE to everyone!</span></span></span></span>
LOCATION:3701 E Trapnell Rd\, Plant City\, FL 33566
UID:e.2462.13746
SEQUENCE:3
DTSTAMP:20260424T160837Z
URL:https://business.plantcity.org/events/details/ribbon-cutting-ceremony-john-k9-dog-training-13746
END:VEVENT

END:VCALENDAR
