BEGIN:VCALENDAR
VERSION:2.0
PRODID:-//ChamberMaster//Event Calendar 2.0//EN
METHOD:PUBLISH
X-PUBLISHED-TTL:P3D
REFRESH-INTERVAL:P3D
CALSCALE:GREGORIAN
BEGIN:VEVENT
DTSTART:20221104T150000Z
DTEND:20221104T160000Z
X-MICROSOFT-CDO-ALLDAYEVENT:FALSE
SUMMARY:Ribbon Cutting Ceremony - Fringe Boutique + Salon on the Park
DESCRIPTION:The community is invited to celebrate with Fringe Boutique + Salon on the Park as we host a Ribbon Cutting Ceremony for their new location and Grand Opening here in downtown Plant City!\n\nCome and support fellow members and continue to grow your professional network.\n\nThis event is FREE for members and non-members of the PCCOC.
X-ALT-DESC;FMTTYPE=text/html:<div animation-name:="" class="m8h3af8h l7ghb35v kjdc1dyq kmwttqpk gh25dzvf" color:="" font-size:="" none="" segoe="" style="overflow-wrap: break-word\; margin: 0px\;" transition-property:="" ui="">The community is invited to celebrate with Fringe Boutique + Salon on the Park as we host a Ribbon Cutting Ceremony for their new location and Grand Opening&nbsp\;here in downtown Plant City!</div>\n\n<div animation-name:="" class="l7ghb35v kjdc1dyq kmwttqpk gh25dzvf jikcssrz" color:="" font-size:="" none="" segoe="" style="overflow-wrap: break-word\; margin: 0.5em 0px 0px\;" transition-property:="" ui="">Come and support fellow members and continue to grow your professional network.</div>\n\n<div animation-name:="" class="l7ghb35v kjdc1dyq kmwttqpk gh25dzvf jikcssrz" color:="" font-size:="" none="" segoe="" style="overflow-wrap: break-word\; margin: 0.5em 0px 0px\;" transition-property:="" ui="">This event is FREE for members and non-members of the PCCOC.</div>\n
LOCATION:108 Drane St NE\, Plant City\, FL\, United States\, 33563
UID:e.2462.13684
SEQUENCE:3
DTSTAMP:20260424T114921Z
URL:https://business.plantcity.org/events/details/ribbon-cutting-ceremony-fringe-boutique-salon-on-the-park-13684
END:VEVENT

END:VCALENDAR
