BEGIN:VCALENDAR
VERSION:2.0
PRODID:-//ChamberMaster//Event Calendar 2.0//EN
METHOD:PUBLISH
X-PUBLISHED-TTL:P3D
REFRESH-INTERVAL:P3D
CALSCALE:GREGORIAN
BEGIN:VEVENT
DTSTART:20250404T203000Z
DTEND:20250404T213000Z
X-MICROSOFT-CDO-ALLDAYEVENT:FALSE
SUMMARY:Reptile Discovery with Bruce Shwedick
DESCRIPTION:Meet the world's most fascinating family of animals in an educational presentation by reptile expert and conservationist Bruce Shwedick. This outdoor program will feature turtles\, an alligator and a crocodile\, lizards and snakes. Bring your blankets or lawn chairs for an outside presentation\, weather permitting. For all ages. Registration is not required\, but space is limited and offered on a first-come-first-served basis.
X-ALT-DESC;FMTTYPE=text/html:Meet the world&rsquo\;s most fascinating family of animals in an educational presentation by reptile expert and conservationist Bruce Shwedick. This outdoor program will feature turtles\, an alligator and a crocodile\, lizards and snakes. Bring your blankets or lawn chairs for an outside presentation\, weather permitting. For all ages. Registration is not required\, but space is limited and offered on a first-come-first-served basis.
LOCATION:Bruton Memorial Library
UID:e.2462.16926
SEQUENCE:3
DTSTAMP:20260419T170537Z
URL:https://business.plantcity.org/events/details/reptile-discovery-with-bruce-shwedick-16926
END:VEVENT

END:VCALENDAR
