BEGIN:VCALENDAR
VERSION:2.0
PRODID:-//ChamberMaster//Event Calendar 2.0//EN
METHOD:PUBLISH
X-PUBLISHED-TTL:P3D
REFRESH-INTERVAL:P3D
CALSCALE:GREGORIAN
BEGIN:VEVENT
DTSTART:20260425T230000Z
DTEND:20260426T003000Z
X-MICROSOFT-CDO-ALLDAYEVENT:FALSE
SUMMARY:Rekindled Grass
DESCRIPTION:Rekindled Grass has quickly become a staple in the Bluegrass community in a little over 10 years together! The Band was formed in March of 2012 by CJ McClellan and Recently a Bluegrass promoter hit the nail on the head when he said this about RG " Rekindled has a fresh new sound that is unprecedented in the state of Florida among Bluegrass bands. Their drive and timing are like a well-oiled machine and their blend of voices will bring you to tears of joy as they deliver the message of life in a song! They communicate so well with every audience and make them feel part of every song!"
X-ALT-DESC;FMTTYPE=text/html:Rekindled Grass has quickly become a staple in the Bluegrass community in a little over 10 years together! The Band was formed in March of 2012 by CJ McClellan and Recently a Bluegrass promoter hit the nail on the head when he said this about RG &ldquo\; Rekindled has a fresh new sound that is unprecedented in the state of Florida among Bluegrass bands. Their drive and timing are like a well-oiled machine and their blend of voices will bring you to tears of joy as they deliver the message of life in a song! They communicate so well with every audience and make them feel part of every song!&rdquo\;
LOCATION:Krazy Kup
UID:e.2462.18082
SEQUENCE:3
DTSTAMP:20260423T082455Z
URL:https://business.plantcity.org/events/details/rekindled-grass-04-25-2026-18082
END:VEVENT

END:VCALENDAR
