BEGIN:VCALENDAR
VERSION:2.0
PRODID:-//ChamberMaster//Event Calendar 2.0//EN
METHOD:PUBLISH
X-PUBLISHED-TTL:P3D
REFRESH-INTERVAL:P3D
CALSCALE:GREGORIAN
BEGIN:VEVENT
DTSTART:20250321T190000Z
DTEND:20250321T200000Z
X-MICROSOFT-CDO-ALLDAYEVENT:FALSE
SUMMARY:Re-Jeweled
DESCRIPTION:Give old jewelry new life! Bring your own broken or missized pieces to repair\, turn them into something new\, or use jewelry and supplies provided to create a new vision. Disclaimer: Re-Jeweled Library staff are not liable for any loss or damage resulting from repairs made in Re-Jeweled.
X-ALT-DESC;FMTTYPE=text/html:Give old jewelry new life! Bring your own broken or missized pieces to repair\, turn them into something new\, or use jewelry and supplies provided to create a new vision. Disclaimer: Re-Jeweled Library staff are not liable for any loss or damage resulting from repairs made in Re-Jeweled.
LOCATION:Bruton Memorial Library
UID:e.2462.16921
SEQUENCE:3
DTSTAMP:20260419T213512Z
URL:https://business.plantcity.org/events/details/re-jeweled-03-21-2025-16921
END:VEVENT

END:VCALENDAR
