BEGIN:VCALENDAR
VERSION:2.0
PRODID:-//ChamberMaster//Event Calendar 2.0//EN
METHOD:PUBLISH
X-PUBLISHED-TTL:P3D
REFRESH-INTERVAL:P3D
CALSCALE:GREGORIAN
BEGIN:VEVENT
DTSTART:20250125T150000Z
DTEND:20250125T190000Z
X-MICROSOFT-CDO-ALLDAYEVENT:FALSE
SUMMARY:RailFest and Plant City Chili Cook Off
DESCRIPTION:
X-ALT-DESC;FMTTYPE=text/html:
LOCATION:
UID:e.2462.16812
SEQUENCE:3
DTSTAMP:20260420T014930Z
URL:https://business.plantcity.org/events/details/railfest-and-plant-city-chili-cook-off-16812
END:VEVENT

END:VCALENDAR
