BEGIN:VCALENDAR
VERSION:2.0
PRODID:-//ChamberMaster//Event Calendar 2.0//EN
METHOD:PUBLISH
X-PUBLISHED-TTL:P3D
REFRESH-INTERVAL:P3D
CALSCALE:GREGORIAN
BEGIN:VEVENT
DTSTART:20250123T223000Z
DTEND:20250123T233000Z
X-MICROSOFT-CDO-ALLDAYEVENT:FALSE
SUMMARY:Pursue Book Publishing Workshop
DESCRIPTION:Local Guest Author\, Rod Martinez\, joins us to talk about the next steps after writing a book such as how to find an editor and the process of publishing your work!
X-ALT-DESC;FMTTYPE=text/html:Local Guest Author\, Rod Martinez\, joins us to talk about the next steps after writing a book such as how to find an editor and the process of publishing your work!
LOCATION:Bruton Memorial Library
UID:e.2462.16824
SEQUENCE:3
DTSTAMP:20260420T001311Z
URL:https://business.plantcity.org/events/details/pursue-book-publishing-workshop-16824
END:VEVENT

END:VCALENDAR
