BEGIN:VCALENDAR
VERSION:2.0
PRODID:-//ChamberMaster//Event Calendar 2.0//EN
METHOD:PUBLISH
X-PUBLISHED-TTL:P3D
REFRESH-INTERVAL:P3D
CALSCALE:GREGORIAN
BEGIN:VEVENT
DTSTART:20250607T170000Z
DTEND:20250607T200000Z
X-MICROSOFT-CDO-ALLDAYEVENT:FALSE
SUMMARY:Purse Burning Class with Tammy Woodall
DESCRIPTION:Join us for a one-of-a-kind experience where you can get creative and indulge in purse burning! This unique class invites you to explore the art of transforming a simple accessory into a personalized masterpiece. Led by the talented Tammy Woodall\, you'll learn the delicate techniques of purse burning\, allowing you to craft a design that's uniquely yours. As you immerse yourself in this artistic journey\, enjoy delightful light bites and sip on wine\, making it a truly enjoyable afternoon. Whether you're an experienced crafter or new to the world of DIY\, this class promises to be both fun and fulfilling. Don't forget to select your favorite purse and makeup bag design when you register to ensure everything is ready for your creative expression. We look forward to seeing you there!
X-ALT-DESC;FMTTYPE=text/html:Join us for a one-of-a-kind experience where you can get creative and indulge in purse burning! This unique class invites you to explore the art of transforming a simple accessory into a personalized masterpiece. Led by the talented Tammy Woodall\, you&#39\;ll learn the delicate techniques of purse burning\, allowing you to craft a design that&#39\;s uniquely yours. As you immerse yourself in this artistic journey\, enjoy delightful light bites and sip on wine\, making it a truly enjoyable afternoon. Whether you&#39\;re an experienced crafter or new to the world of DIY\, this class promises to be both fun and fulfilling. Don&#39\;t forget to select your favorite purse and makeup bag design when you register to ensure everything is ready for your creative expression. We look forward to seeing you there!
LOCATION:Plant City History & Photo Archives 106 S Evers St. Plant City FL 33563
UID:e.2462.16969
SEQUENCE:3
DTSTAMP:20260419T225627Z
URL:https://business.plantcity.org/events/details/purse-burning-class-with-tammy-woodall-16969
END:VEVENT

END:VCALENDAR
