BEGIN:VCALENDAR
VERSION:2.0
PRODID:-//ChamberMaster//Event Calendar 2.0//EN
METHOD:PUBLISH
X-PUBLISHED-TTL:P3D
REFRESH-INTERVAL:P3D
CALSCALE:GREGORIAN
BEGIN:VEVENT
DTSTART:20250430T190000Z
DTEND:20250430T210000Z
X-MICROSOFT-CDO-ALLDAYEVENT:FALSE
SUMMARY:Public Reading - A Fair Den
DESCRIPTION:Public Reading - A Fair Den is a reading event for kids 6-12!\n\nFour Bears with unique skills and abilities run into a problem over who is the leader of their pack. Will they choose a leader\, or will the pack fall apart?
X-ALT-DESC;FMTTYPE=text/html:Public Reading - A Fair Den is a reading event for kids 6-12!<br />\nFour Bears with unique skills and abilities run into a problem over who is the leader of their pack. Will they choose a leader\, or will the pack fall apart?
LOCATION:Plant City History & Photo Archives 106 S. Evers St. Plant City\, FL 33563
UID:e.2462.16970
SEQUENCE:3
DTSTAMP:20260419T192345Z
URL:https://business.plantcity.org/events/details/public-reading-a-fair-den-16970
END:VEVENT

END:VCALENDAR
