BEGIN:VCALENDAR
VERSION:2.0
PRODID:-//ChamberMaster//Event Calendar 2.0//EN
METHOD:PUBLISH
X-PUBLISHED-TTL:P3D
REFRESH-INTERVAL:P3D
CALSCALE:GREGORIAN
BEGIN:VEVENT
DTSTART:20250521T123000Z
DTEND:20250521T150000Z
X-MICROSOFT-CDO-ALLDAYEVENT:FALSE
SUMMARY:POSTPONED: Capitol Coffee
DESCRIPTION:Confirmed representatives:\n\n	Lawrence McClure (R)\, House District 68\n	Danny Burgess (R)\, Senate District 23\n	Danny Alvarez (R)\, House District 69
X-ALT-DESC;FMTTYPE=text/html:Confirmed representatives:\n<ul>\n	<li>Lawrence McClure (R)\, House District 68</li>\n	<li>Danny Burgess (R)\, Senate District 23</li>\n	<li>Danny Alvarez&nbsp\;(R)\, House District 69</li>\n</ul>\n
LOCATION:HCC Trinkle Center 1206 N. Park Road Plant City\, FL
UID:e.2462.16878
SEQUENCE:3
DTSTAMP:20260419T212613Z
URL:https://business.plantcity.org/events/details/postponed-capitol-coffee-05-21-2025-16878
END:VEVENT

END:VCALENDAR
