BEGIN:VCALENDAR
VERSION:2.0
PRODID:-//ChamberMaster//Event Calendar 2.0//EN
METHOD:PUBLISH
X-PUBLISHED-TTL:P3D
REFRESH-INTERVAL:P3D
CALSCALE:GREGORIAN
BEGIN:VEVENT
DTSTART:20250308T160000Z
DTEND:20250308T200000Z
X-MICROSOFT-CDO-ALLDAYEVENT:FALSE
SUMMARY:Portrait of a Bride\, an Evolving Silhouette - with Leigh Anne Browne
DESCRIPTION:Join us for an exhibition that invites you to explore the rich tapestry of history and culture through the lens of bridal fashion. Each gown tells a unique story\, embodying the dreams\, aspirations\, & transformations of women across generations. From vintage lace and silk to contemporary minimalist designs\, the collection highlights the evolving roles\, identities\, and freedoms of women in society. Join us for a journey through time\, where tradition meets innovation and personal expression shines through every stitch. \n\n\n\nCapped at 30 people\n\n$40 per person
X-ALT-DESC;FMTTYPE=text/html:Join us for an exhibition that invites you to explore the rich tapestry of history and culture through the lens of bridal fashion. Each gown tells a unique story\, embodying the dreams\, aspirations\, &amp\; transformations of women across generations. From vintage lace and silk to contemporary minimalist designs\, the collection highlights the evolving roles\, identities\, and freedoms of women in society. Join us for a journey through time\, where tradition meets innovation and personal expression shines through every stitch.&nbsp\;<br />\n<br />\nCapped at 30 people<br />\n$40 per person
LOCATION:Plant City History & Photo Archives 106 S Evers St. Plant City FL 33563
UID:e.2462.16909
SEQUENCE:3
DTSTAMP:20260419T213642Z
URL:https://business.plantcity.org/events/details/portrait-of-a-bride-an-evolving-silhouette-with-leigh-anne-browne-16909
END:VEVENT

END:VCALENDAR
