BEGIN:VCALENDAR
VERSION:2.0
PRODID:-//ChamberMaster//Event Calendar 2.0//EN
METHOD:PUBLISH
X-PUBLISHED-TTL:P3D
REFRESH-INTERVAL:P3D
CALSCALE:GREGORIAN
BEGIN:VEVENT
DTSTART:20250123T123000Z
DTEND:20250124T020000Z
X-MICROSOFT-CDO-ALLDAYEVENT:FALSE
SUMMARY:Plant City Toastmasters
DESCRIPTION:Come join us for a weekly Toastmasters meeting\, ?Where Leaders are Made!? Does public speaking intimidate you? Want to meet new friends intent on conquering this fear while having a great time? Then Toastmasters is for you! Come check us out and you will see why we are one of the largest clubs in District 84 of Toastmasters International. We will see you there!
X-ALT-DESC;FMTTYPE=text/html:Come join us for a weekly Toastmasters meeting\, ?Where Leaders are Made!? Does public speaking intimidate you? Want to meet new friends intent on conquering this fear while having a great time? Then Toastmasters is for you! Come check us out and you will see why we are one of the largest clubs in District 84 of Toastmasters International. We will see you there!
LOCATION:Wesley Centre 202 W. Reynolds St. Plant City\, FL 33563 (1st floor entrance on Evers St. side\, across from Cameron Financial Management)
UID:e.2462.14254
SEQUENCE:3
DTSTAMP:20260420T014732Z
URL:https://business.plantcity.org/events/details/plant-city-toastmasters-01-23-2025-14254
END:VEVENT

END:VCALENDAR
