BEGIN:VCALENDAR
VERSION:2.0
PRODID:-//ChamberMaster//Event Calendar 2.0//EN
METHOD:PUBLISH
X-PUBLISHED-TTL:P3D
REFRESH-INTERVAL:P3D
CALSCALE:GREGORIAN
BEGIN:VEVENT
DTSTART:20210906T193000Z
DTEND:20210906T203000Z
X-MICROSOFT-CDO-ALLDAYEVENT:FALSE
SUMMARY:Plant City Strawberry Classic Cruise-In Committee Meeting
DESCRIPTION:
X-ALT-DESC;FMTTYPE=text/html:
LOCATION:Plant City Chamber 106 N. Evers Street Plant City\, FL
UID:e.2462.11682
SEQUENCE:3
DTSTAMP:20260419T163741Z
URL:https://business.plantcity.org/events/details/plant-city-strawberry-classic-cruise-in-committee-meeting-09-06-2021-11682
END:VEVENT

END:VCALENDAR
