BEGIN:VCALENDAR
VERSION:2.0
PRODID:-//ChamberMaster//Event Calendar 2.0//EN
METHOD:PUBLISH
X-PUBLISHED-TTL:P3D
REFRESH-INTERVAL:P3D
CALSCALE:GREGORIAN
BEGIN:VEVENT
DTSTART:20250118T200000Z
DTEND:20250118T220000Z
X-MICROSOFT-CDO-ALLDAYEVENT:FALSE
SUMMARY:Plant City MLK TECO Battle of the Bands
DESCRIPTION:The 12th Annual Plant City Battle of the Bands featuring 5 drumlines from local high school\, middle school and now elementary schools battling for $5\,000.00 in cash prizes\, trophies and recognition.\n\n\n\nThe competition includes a vendor expo area with food and merchandise trucks as well as entertainment with artists and comedians from Atlanta based record label So So Def Records and DJs from Broward County. \n\n\n\nThe Battle of the Bands is sponsored by Tampa Electric and promotes music enthusiasts and youth alike to enjoy the ultimate battle of percussion instruments.
X-ALT-DESC;FMTTYPE=text/html:The 12th Annual Plant City Battle of the Bands featuring 5 drumlines from local high school\, middle school and now elementary schools battling for $5\,000.00 in cash prizes\, trophies and recognition.<br />\n<br />\nThe competition includes a vendor expo area with food and merchandise trucks as well as entertainment with artists and comedians from Atlanta based record label So So Def Records and DJs from Broward County.&nbsp\;<br />\n<br />\nThe Battle of the Bands is sponsored by Tampa Electric and promotes music enthusiasts and youth alike to enjoy the ultimate battle of percussion instruments.&nbsp\;
LOCATION:Sadye Gibbs Martin Community Center 103 South Maryland Avenue\, Plant City
UID:e.2462.16817
SEQUENCE:3
DTSTAMP:20260420T001839Z
URL:https://business.plantcity.org/events/details/plant-city-mlk-teco-battle-of-the-bands-16817
END:VEVENT

END:VCALENDAR
