BEGIN:VCALENDAR
VERSION:2.0
PRODID:-//ChamberMaster//Event Calendar 2.0//EN
METHOD:PUBLISH
X-PUBLISHED-TTL:P3D
REFRESH-INTERVAL:P3D
CALSCALE:GREGORIAN
BEGIN:VEVENT
DTSTART:20251020T150000Z
DTEND:20251020T170000Z
X-MICROSOFT-CDO-ALLDAYEVENT:FALSE
SUMMARY:Plant City Homeschool - Open House
DESCRIPTION:Join us for Plant City Homeschool Collective's Fall Open House. This is a two-hour community event where families can learn how our nonprofit supports local homeschooling families through enrichment\, leadership\, and life-skills programs.\n\nLocal business owners are encouraged to stop by\, meet our team\, and see how PCHC is building a connected\, family-focused community right here in Plant City. Enjoy light snacks & refreshments\, see classes in action\, and learn about partnership and sponsorship opportunities for the upcoming year.\n\nWhen: Monday\, October 20th   11:00 a.m. 1:00 p.m.\n\nWhere: St. Peter's Episcopal Church | Banquet Hall\n\n302 Carey Street\, Plant City\, FL  -  PCHC | Our Location  \n\nDetails: Free RSVP   Limited Capacity   Family-Friendly\n\nSponsor Call: We're also inviting local businesses to help make this event special through donations of food\, drinks\, or raffle prizes. Sponsors will be recognized at the event and in our community promotions. This is an easy\, meaningful way to connect your business with local families and show your support for Plant City's growing homeschool community.\n\nAbout PCHC:\n\nPlant City Homeschool Collective is a 501(c)(3) nonprofit that provides enrichment classes\, community events\, and life-skills learning for local homeschooling families. Our mission is to make homeschooling feel less like isolation and more like belonging.\n\nLearn more: www.PlantCityHomeschool.org
X-ALT-DESC;FMTTYPE=text/html:<p>Join us for Plant City Homeschool Collective&rsquo\;s Fall Open House. This is a two-hour community event where families can learn how our nonprofit supports local homeschooling families through enrichment\, leadership\, and life-skills programs.</p>\n\n<p>Local business owners are encouraged to stop by\, meet our team\, and see how PCHC is building a connected\, family-focused community right here in Plant City. Enjoy light snacks &amp\; refreshments\, see classes in action\, and learn about partnership and sponsorship opportunities for the upcoming year.</p>\n\n<p><strong>When:</strong> Monday\, October 20th &middot\; 11:00 a.m.&ndash\;1:00 p.m.<br />\n<strong>Where:</strong> St. Peter&rsquo\;s Episcopal Church | Banquet Hall<br />\n302 Carey Street\, Plant City\, FL&nbsp\; -&nbsp\;&nbsp\;<a href="https://www.plantcityhomeschool.org/our-location">PCHC | Our Location</a>&nbsp\;&nbsp\;<br />\n<strong>Details:</strong> Free RSVP &middot\; Limited Capacity &middot\; Family-Friendly<br />\n<strong>Sponsor Call:&nbsp\;</strong>We&rsquo\;re also inviting local businesses to help make this event special through donations of food\, drinks\, or raffle prizes. Sponsors will be recognized at the event and in our community promotions. This is an easy\, meaningful way to connect your business with local families and show your support for Plant City&rsquo\;s growing homeschool community.</p>\n\n<p><strong>About PCHC:</strong><br />\nPlant City Homeschool Collective is a 501(c)(3) nonprofit that provides enrichment classes\, community events\, and life-skills learning for local homeschooling families. Our mission is to make homeschooling feel less like isolation and more like belonging.</p>\n\n<p><strong>Learn more:</strong> www.PlantCityHomeschool.org</p>\n
LOCATION:PCHC | Our Location 302 Carey St\, Plant City\, FL 33563
UID:e.2462.17551
SEQUENCE:3
DTSTAMP:20260424T212450Z
URL:https://business.plantcity.org/events/details/plant-city-homeschool-open-house-17551
END:VEVENT

END:VCALENDAR
