BEGIN:VCALENDAR
VERSION:2.0
PRODID:-//ChamberMaster//Event Calendar 2.0//EN
METHOD:PUBLISH
X-PUBLISHED-TTL:P3D
REFRESH-INTERVAL:P3D
CALSCALE:GREGORIAN
BEGIN:VEVENT
DTSTART:20230228T140000Z
DTEND:20230228T220000Z
X-MICROSOFT-CDO-ALLDAYEVENT:FALSE
SUMMARY:Plant City Garden Club Strawberry Festival Horticulture Show Plant Show - Plant Check-In
DESCRIPTION:The Plant City Garden Club is hosting the Horticulture Show at the Strawberry Festival. Eligible plants submitted must be grown by Hillsborough County residents. To enter plants for prizes\, they must be in your possession for three months prior to the opening day of the Strawberry Festival. Exception is for multiple plants such as dish gardens\, fairy gardens & terrariums. These must be in exhibitors' possession for at least six weeks. Visit strawberry festival.com\, info\, contests\, misc contests\, and then select 2023 Garden Club Horticulture Show.
X-ALT-DESC;FMTTYPE=text/html:The Plant City Garden Club is hosting the Horticulture Show at the Strawberry Festival. Eligible plants submitted must be grown by Hillsborough County residents. To enter plants for prizes\, they must be in your possession for three months prior to the opening day of the Strawberry Festival. Exception is for multiple plants such as dish gardens\, fairy gardens &amp\; terrariums. These must be in exhibitors&#39\; possession for at least six weeks. Visit strawberry festival.com\, info\, contests\, misc contests\, and then select 2023 Garden Club Horticulture Show.
LOCATION:Strawberry Festival - Neighborhood Village Building. South side of the Administration Building right next to Gate 4\, off of Berryfest Place.
UID:e.2462.13914
SEQUENCE:3
DTSTAMP:20260424T115049Z
URL:https://business.plantcity.org/events/details/plant-city-garden-club-strawberry-festival-horticulture-show-plant-show-plant-check-in-13914
END:VEVENT

END:VCALENDAR
