BEGIN:VCALENDAR
VERSION:2.0
PRODID:-//ChamberMaster//Event Calendar 2.0//EN
METHOD:PUBLISH
X-PUBLISHED-TTL:P3D
REFRESH-INTERVAL:P3D
CALSCALE:GREGORIAN
BEGIN:VEVENT
DTSTART:20250908T133000Z
DTEND:20250908T160000Z
X-MICROSOFT-CDO-ALLDAYEVENT:FALSE
SUMMARY:Plant City Garden Club September Meeting
DESCRIPTION:The Plant City Garden Club September meeting will begin at 9:30 with coffee and refreshments. The general meeting will begin at 10:00. Planning for our upcoming Flower Show will be discussed.
X-ALT-DESC;FMTTYPE=text/html:The Plant City Garden Club September meeting will begin at 9:30 with coffee and refreshments. The general meeting will begin at 10:00. Planning for our upcoming Flower Show will be discussed.
LOCATION:First United Methodist Church 303 N. Evers Street Plant City
UID:e.2462.17371
SEQUENCE:3
DTSTAMP:20260424T225536Z
URL:https://business.plantcity.org/events/details/plant-city-garden-club-september-meeting-09-08-2025-17371
END:VEVENT

END:VCALENDAR
