BEGIN:VCALENDAR
VERSION:2.0
PRODID:-//ChamberMaster//Event Calendar 2.0//EN
METHOD:PUBLISH
X-PUBLISHED-TTL:P3D
REFRESH-INTERVAL:P3D
CALSCALE:GREGORIAN
BEGIN:VEVENT
DTSTART:20250317T133000Z
DTEND:20250317T160000Z
X-MICROSOFT-CDO-ALLDAYEVENT:FALSE
SUMMARY:Plant City Garden Club March Meeting
DESCRIPTION:The Plant City Garden Club March meeting will begin at 9:30 with coffee & refreshments. Meeting begins at 10:00. Guest speaker will be Barbara Walker with the Tampa Bay Raptor Rescue. Visitors and new members are always welcome!
X-ALT-DESC;FMTTYPE=text/html:The Plant City Garden Club March meeting will begin at 9:30 with coffee &amp\; refreshments. Meeting begins at 10:00. Guest speaker will be Barbara Walker with the Tampa Bay Raptor Rescue. Visitors and new members are always welcome!
LOCATION:First United Methodist Church 303 N. Evers Street Plant City. 33563
UID:e.2462.16917
SEQUENCE:3
DTSTAMP:20260419T214633Z
URL:https://business.plantcity.org/events/details/plant-city-garden-club-march-meeting-03-17-2025-16917
END:VEVENT

END:VCALENDAR
