BEGIN:VCALENDAR
VERSION:2.0
PRODID:-//ChamberMaster//Event Calendar 2.0//EN
METHOD:PUBLISH
X-PUBLISHED-TTL:P3D
REFRESH-INTERVAL:P3D
CALSCALE:GREGORIAN
BEGIN:VEVENT
DTSTART:20250414T133000Z
DTEND:20250414T160000Z
X-MICROSOFT-CDO-ALLDAYEVENT:FALSE
SUMMARY:Plant City Garden Club April Meeting
DESCRIPTION:The Plant City Garden Club April meeting will begin at 9:30 with coffee and refreshments. The general meeting will begin at 10:00. The guest speaker will be announced at a later date on Facebook and at plantcitygardenclub.com.
X-ALT-DESC;FMTTYPE=text/html:The Plant City Garden Club April meeting will begin at 9:30 with coffee and refreshments. The general meeting will begin at 10:00. The guest speaker will be announced at a later date on Facebook and at plantcitygardenclub.com.
LOCATION:First United Methodist Church 303 N. Evers Street Plant City 33563
UID:e.2462.16936
SEQUENCE:3
DTSTAMP:20260419T182612Z
URL:https://business.plantcity.org/events/details/plant-city-garden-club-april-meeting-04-14-2025-16936
END:VEVENT

END:VCALENDAR
