BEGIN:VCALENDAR
VERSION:2.0
PRODID:-//ChamberMaster//Event Calendar 2.0//EN
METHOD:PUBLISH
X-PUBLISHED-TTL:P3D
REFRESH-INTERVAL:P3D
CALSCALE:GREGORIAN
BEGIN:VEVENT
DTSTART:20251107T130000Z
DTEND:20251107T210000Z
X-MICROSOFT-CDO-ALLDAYEVENT:FALSE
SUMMARY:Plant City Fall Ag Tour
DESCRIPTION:
X-ALT-DESC;FMTTYPE=text/html:
LOCATION:
UID:e.2462.17563
SEQUENCE:3
DTSTAMP:20260424T195802Z
URL:https://business.plantcity.org/events/details/plant-city-fall-ag-tour-17563
END:VEVENT

END:VCALENDAR
