BEGIN:VCALENDAR
VERSION:2.0
PRODID:-//ChamberMaster//Event Calendar 2.0//EN
METHOD:PUBLISH
X-PUBLISHED-TTL:P3D
REFRESH-INTERVAL:P3D
CALSCALE:GREGORIAN
BEGIN:VEVENT
DTSTART:20160227T150000Z
DTEND:20160227T200000Z
X-MICROSOFT-CDO-ALLDAYEVENT:FALSE
SUMMARY:Planes Trains & Automobiles
DESCRIPTION:It's a chance to see real airplanes\, remote control planes\, model trains in operation and on exhibit\, and classic and exotic car displays. Antique railroad maintenance equipment\, train artifacts and memorabilia will be on site for guests to explore.\n\n\n\nAs part of the EAA Young Eagles Program\, kids ages 8-17 will be able to take free airplane flights (limited to the first 100) and Boys Scouts will have an opportunity to earn their aviation merit badge\, and/or the featured annual merit badge at the event.\n\n\n\nVendor Application Form\n\n\n\nEvent Sponsor Information
X-ALT-DESC;FMTTYPE=text/html:<p class="pModal" style="margin: 0px 0px 10px\; color: black\; font-family: freight-sans-pro\, sans-serif\; font-size: 0.9em\; padding: 0px 25px\; line-height: 20px\;">It&#39\;s a chance to see real airplanes\, remote control planes\, model trains in operation and on exhibit\, and classic and exotic car displays. Antique railroad maintenance equipment\, train artifacts and memorabilia will be on site for guests to explore.</p>\n\n<p class="pModal" style="margin: 0px 0px 10px\; color: black\; font-family: freight-sans-pro\, sans-serif\; font-size: 0.9em\; padding: 0px 25px\; line-height: 20px\;"><br />\nAs part of the EAA Young Eagles Program\, kids ages 8-17 will be able to take free airplane flights (limited to the first 100) and Boys Scouts will have an opportunity to earn their aviation merit badge\, and/or the featured annual merit badge at the event.<br />\n<br />\n<a href="http://cloud.chambermaster.com/userfiles/UserFiles/chambers/2462/File/PTAVENDOR2016.pdf">Vendor Application Form</a><br />\n<br />\n<a href="http://cloud.chambermaster.com/userfiles/UserFiles/chambers/2462/File/2016PTASponsorPacket.pdf">Event Sponsor Information</a></p>\n
LOCATION:Planes\, Trains & Automobiles at the Plant City Airport\, 4007 Airport Rd.\, Plant City 33566.
UID:e.2462.1239
SEQUENCE:3
DTSTAMP:20260422T115741Z
URL:https://business.plantcity.org/events/details/planes-trains-automobiles-02-27-2016-1239
END:VEVENT

END:VCALENDAR
