BEGIN:VCALENDAR
VERSION:2.0
PRODID:-//ChamberMaster//Event Calendar 2.0//EN
METHOD:PUBLISH
X-PUBLISHED-TTL:P3D
REFRESH-INTERVAL:P3D
CALSCALE:GREGORIAN
BEGIN:VEVENT
DTSTART:20251219T223000Z
DTEND:20251220T000000Z
X-MICROSOFT-CDO-ALLDAYEVENT:FALSE
SUMMARY:Paint & Sip at Your CBD Store Plant City
DESCRIPTION:Join us on Thursday\, December 19 for a fun and relaxing evening of creativity\, wine\, and good vibes! Our Paint & Sip event is the perfect way to unwind with friends\, enjoy delicious snacks\, and create your own masterpiece.\n\nNo experience necessary all materials are provided.  Enjoy wine by Keel Farms\, food by Angelina's Deli\, and a guided painting experience.\n\nDate: Thursday\, December 19\, 2025\n\nTime: 5:30 PM   7:00 PM\n\nLocation: Your CBD Store\, Plant City\n\nRSVP: $10\n\nThis month's featured painting is a beautiful hand-painted holiday poinsettia\, perfect for the season. Whether you're a beginner or an experienced painter\, our guided session will help you create your own vibrant masterpiece.\n\nSpots are limited\, so reserve yours today!
X-ALT-DESC;FMTTYPE=text/html:<p>Join us on <strong>Thursday\, December 19</strong> for a fun and relaxing evening of creativity\, wine\, and good vibes! Our Paint &amp\; Sip event is the perfect way to unwind with friends\, enjoy delicious snacks\, and create your own masterpiece.</p>\n\n<p>No experience necessary&mdash\;all materials are provided. &nbsp\;Enjoy wine by Keel Farms\, food by Angelina&rsquo\;s Deli\, and a guided painting experience.</p>\n\n<p><strong>Date:</strong> Thursday\, December 19\, 2025<br />\n<strong>Time:</strong> 5:30 PM &ndash\; 7:00 PM<br />\n<strong>Location:</strong> Your CBD Store\, Plant City<br />\n<strong>RSVP:</strong> $10</p>\n\n<p>This month&rsquo\;s featured painting is a beautiful hand-painted <strong>holiday poinsettia</strong>\, perfect for the season. Whether you&rsquo\;re a beginner or an experienced painter\, our guided session will help you create your own vibrant masterpiece.</p>\n\n<p>Spots are limited\, so reserve yours today!</p>\n
LOCATION:2909 James L Redman Pkwy\, #7\, Plant City\, FL
UID:e.2462.17713
SEQUENCE:3
DTSTAMP:20260424T212449Z
URL:https://business.plantcity.org/events/details/paint-sip-at-your-cbd-store-plant-city-17713
END:VEVENT

END:VCALENDAR
