BEGIN:VCALENDAR
VERSION:2.0
PRODID:-//ChamberMaster//Event Calendar 2.0//EN
METHOD:PUBLISH
X-PUBLISHED-TTL:P3D
REFRESH-INTERVAL:P3D
CALSCALE:GREGORIAN
BEGIN:VEVENT
DTSTART:20250325T203000Z
DTEND:20250325T210000Z
X-MICROSOFT-CDO-ALLDAYEVENT:FALSE
SUMMARY:Origami for Beginners
DESCRIPTION:Come sharpen your skills or learn something new! Supplies and instructions provided\, you bring your creativity. For ages 8 and up.
X-ALT-DESC;FMTTYPE=text/html:Come sharpen your skills or learn something new! Supplies and instructions provided\, you bring your creativity. For ages 8 and up.
LOCATION:Bruton Memorial Library
UID:e.2462.16922
SEQUENCE:3
DTSTAMP:20260419T213419Z
URL:https://business.plantcity.org/events/details/origami-for-beginners-03-25-2025-16922
END:VEVENT

END:VCALENDAR
